BEGIN:VCALENDAR
VERSION:2.0
PRODID:-//Multihull Charter - ECPv6.2.0.1//NONSGML v1.0//EN
CALSCALE:GREGORIAN
METHOD:PUBLISH
X-ORIGINAL-URL:https://www.multihull-charter.com
X-WR-CALDESC:Veranstaltungen für Multihull Charter
REFRESH-INTERVAL;VALUE=DURATION:PT1H
X-Robots-Tag:noindex
X-PUBLISHED-TTL:PT1H
BEGIN:VTIMEZONE
TZID:Europe/Berlin
BEGIN:DAYLIGHT
TZOFFSETFROM:+0100
TZOFFSETTO:+0200
TZNAME:CEST
DTSTART:20230326T010000
END:DAYLIGHT
BEGIN:STANDARD
TZOFFSETFROM:+0200
TZOFFSETTO:+0100
TZNAME:CET
DTSTART:20231029T010000
END:STANDARD
END:VTIMEZONE
BEGIN:VEVENT
DTSTART;TZID=Europe/Berlin:20230523T183000
DTEND;TZID=Europe/Berlin:20230523T220000
DTSTAMP:20260424T115859
CREATED:20220919T173654Z
LAST-MODIFIED:20221128T141434Z
UID:2001-1684866600-1684879200@www.multihull-charter.com
SUMMARY:SRC - Funkkurs - Abendkurs
DESCRIPTION:
URL:https://www.multihull-charter.com/event/src-funkkurs-abendkurs-3/
CATEGORIES:Funkkurs
ATTACH;FMTTYPE=image/jpeg:https://www.multihull-charter.com/wp-content/uploads/2020/09/mika-brandt-XkTjw7EN478-unsplash.jpg
END:VEVENT
END:VCALENDAR